BEGIN:VCALENDAR
VERSION:2.0
PRODID:-//TSG Borchen - ECPv5.1.6//NONSGML v1.0//EN
CALSCALE:GREGORIAN
METHOD:PUBLISH
X-WR-CALNAME:TSG Borchen
X-ORIGINAL-URL:https://tsg-borchen.de
X-WR-CALDESC:Veranstaltungen für TSG Borchen
BEGIN:VTIMEZONE
TZID:UTC
BEGIN:STANDARD
TZOFFSETFROM:+0000
TZOFFSETTO:+0000
TZNAME:UTC
DTSTART:20200101T000000
END:STANDARD
END:VTIMEZONE
BEGIN:VEVENT
DTSTART;TZID=UTC:20201026T200000
DTEND;TZID=UTC:20201026T210000
DTSTAMP:20260425T220119
CREATED:20201015T081506Z
LAST-MODIFIED:20201015T081506Z
UID:581-1603742400-1603746000@tsg-borchen.de
SUMMARY:Vorstandssitzung
DESCRIPTION:
URL:https://tsg-borchen.de/event/vorstandssitzung/
END:VEVENT
END:VCALENDAR