BEGIN:VCALENDAR
VERSION:2.0
PRODID:-//TSG Borchen - ECPv5.1.6//NONSGML v1.0//EN
CALSCALE:GREGORIAN
METHOD:PUBLISH
X-WR-CALNAME:TSG Borchen
X-ORIGINAL-URL:https://tsg-borchen.de
X-WR-CALDESC:Veranstaltungen für TSG Borchen
BEGIN:VTIMEZONE
TZID:UTC
BEGIN:STANDARD
TZOFFSETFROM:+0000
TZOFFSETTO:+0000
TZNAME:UTC
DTSTART:20250101T000000
END:STANDARD
END:VTIMEZONE
BEGIN:VEVENT
DTSTART;VALUE=DATE:20250912
DTEND;VALUE=DATE:20250913
DTSTAMP:20260425T162657
CREATED:20250825T184859Z
LAST-MODIFIED:20250825T184859Z
UID:952-1757635200-1757721599@tsg-borchen.de
SUMMARY:Vereinsheim belegt
DESCRIPTION:
URL:https://tsg-borchen.de/event/vereinsheim-belegt/
CATEGORIES:Aktiv
END:VEVENT
END:VCALENDAR