BEGIN:VCALENDAR
VERSION:2.0
PRODID:-//TSG Borchen - ECPv5.1.6//NONSGML v1.0//EN
CALSCALE:GREGORIAN
METHOD:PUBLISH
X-WR-CALNAME:TSG Borchen
X-ORIGINAL-URL:https://tsg-borchen.de
X-WR-CALDESC:Veranstaltungen für TSG Borchen
BEGIN:VTIMEZONE
TZID:UTC
BEGIN:STANDARD
TZOFFSETFROM:+0000
TZOFFSETTO:+0000
TZNAME:UTC
DTSTART:20240101T000000
END:STANDARD
END:VTIMEZONE
BEGIN:VEVENT
DTSTART;TZID=UTC:20240605T180000
DTEND;TZID=UTC:20240605T230000
DTSTAMP:20260425T181509
CREATED:20240518T133550Z
LAST-MODIFIED:20240518T133550Z
UID:888-1717610400-1717628400@tsg-borchen.de
SUMMARY:Vereinsheim belegt\, Michael Rohde
DESCRIPTION:
URL:https://tsg-borchen.de/event/vereinsheim-belegt-michael-rohde/
CATEGORIES:Aktiv
END:VEVENT
END:VCALENDAR