BEGIN:VCALENDAR
VERSION:2.0
PRODID:-//TSG Borchen - ECPv5.1.6//NONSGML v1.0//EN
CALSCALE:GREGORIAN
METHOD:PUBLISH
X-WR-CALNAME:TSG Borchen
X-ORIGINAL-URL:https://tsg-borchen.de
X-WR-CALDESC:Veranstaltungen für TSG Borchen
BEGIN:VTIMEZONE
TZID:UTC
BEGIN:STANDARD
TZOFFSETFROM:+0000
TZOFFSETTO:+0000
TZNAME:UTC
DTSTART:20250101T000000
END:STANDARD
END:VTIMEZONE
BEGIN:VEVENT
DTSTART;TZID=UTC:20250117T190000
DTEND;TZID=UTC:20250117T200000
DTSTAMP:20260425T163613
CREATED:20241223T184543Z
LAST-MODIFIED:20241223T184543Z
UID:907-1737140400-1737144000@tsg-borchen.de
SUMMARY:Treffen der Mannschaftsführer
DESCRIPTION:
URL:https://tsg-borchen.de/event/treffen-der-mannschaftsfuehrer/
CATEGORIES:Aktiv
END:VEVENT
END:VCALENDAR