BEGIN:VCALENDAR
VERSION:2.0
PRODID:-//TSG Borchen - ECPv5.1.6//NONSGML v1.0//EN
CALSCALE:GREGORIAN
METHOD:PUBLISH
X-WR-CALNAME:TSG Borchen
X-ORIGINAL-URL:https://tsg-borchen.de
X-WR-CALDESC:Veranstaltungen für TSG Borchen
BEGIN:VTIMEZONE
TZID:UTC
BEGIN:STANDARD
TZOFFSETFROM:+0000
TZOFFSETTO:+0000
TZNAME:UTC
DTSTART:20250101T000000
END:STANDARD
END:VTIMEZONE
BEGIN:VEVENT
DTSTART;TZID=UTC:20251227T170000
DTEND;TZID=UTC:20251227T233000
DTSTAMP:20260421T065230
CREATED:20251120T200446Z
LAST-MODIFIED:20251120T200446Z
UID:982-1766854800-1766878200@tsg-borchen.de
SUMMARY:Tennisheim belegt
DESCRIPTION:
URL:https://tsg-borchen.de/event/tennisheim-belegt-2/
END:VEVENT
END:VCALENDAR