BEGIN:VCALENDAR
VERSION:2.0
PRODID:-//TSG Borchen - ECPv5.1.6//NONSGML v1.0//EN
CALSCALE:GREGORIAN
METHOD:PUBLISH
X-WR-CALNAME:TSG Borchen
X-ORIGINAL-URL:https://tsg-borchen.de
X-WR-CALDESC:Veranstaltungen für TSG Borchen
BEGIN:VTIMEZONE
TZID:UTC
BEGIN:STANDARD
TZOFFSETFROM:+0000
TZOFFSETTO:+0000
TZNAME:UTC
DTSTART:20220101T000000
END:STANDARD
END:VTIMEZONE
BEGIN:VEVENT
DTSTART;TZID=UTC:20221112T190000
DTEND;TZID=UTC:20221112T230000
DTSTAMP:20260425T221019
CREATED:20221017T064859Z
LAST-MODIFIED:20221017T064859Z
UID:759-1668279600-1668294000@tsg-borchen.de
SUMMARY:Mannschaftsabend Herren 30 im Tennisheim
DESCRIPTION:
URL:https://tsg-borchen.de/event/mannschaftsabend-herren-30-im-tennisheim/
CATEGORIES:Aktiv
END:VEVENT
END:VCALENDAR