BEGIN:VCALENDAR
VERSION:2.0
PRODID:-//TSG Borchen - ECPv5.1.6//NONSGML v1.0//EN
CALSCALE:GREGORIAN
METHOD:PUBLISH
X-WR-CALNAME:TSG Borchen
X-ORIGINAL-URL:https://tsg-borchen.de
X-WR-CALDESC:Veranstaltungen für TSG Borchen
BEGIN:VTIMEZONE
TZID:UTC
BEGIN:STANDARD
TZOFFSETFROM:+0000
TZOFFSETTO:+0000
TZNAME:UTC
DTSTART:20260101T000000
END:STANDARD
END:VTIMEZONE
BEGIN:VEVENT
DTSTART;TZID=UTC:20260116T200000
DTEND;TZID=UTC:20260116T220000
DTSTAMP:20260425T164345
CREATED:20250927T101005Z
LAST-MODIFIED:20251219T064918Z
UID:962-1768593600-1768600800@tsg-borchen.de
SUMMARY:Jahreshauptversammlung TSG Borchen
DESCRIPTION:
URL:https://tsg-borchen.de/event/jahreshauptversammlung-tsg-borchen/
CATEGORIES:Aktiv
END:VEVENT
END:VCALENDAR