BEGIN:VCALENDAR
VERSION:2.0
PRODID:-//TSG Borchen - ECPv5.1.6//NONSGML v1.0//EN
CALSCALE:GREGORIAN
METHOD:PUBLISH
X-WR-CALNAME:TSG Borchen
X-ORIGINAL-URL:https://tsg-borchen.de
X-WR-CALDESC:Veranstaltungen für TSG Borchen
BEGIN:VTIMEZONE
TZID:UTC
BEGIN:STANDARD
TZOFFSETFROM:+0000
TZOFFSETTO:+0000
TZNAME:UTC
DTSTART:20210101T000000
END:STANDARD
END:VTIMEZONE
BEGIN:VEVENT
DTSTART;TZID=UTC:20210801T130000
DTEND;TZID=UTC:20210801T180000
DTSTAMP:20260425T220837
CREATED:20210726T075826Z
LAST-MODIFIED:20210726T075922Z
UID:669-1627822800-1627840800@tsg-borchen.de
SUMMARY:Doppelturnier am 1.8.2021 ab 13 Uhr
DESCRIPTION:Dieses Turnier ist für alle Mitgliederinnen und Mitglieder gedacht. Es werden die Paarungen nach jedem Kurzspiel neu ausgelost. Ein Spiel soll etwa 20-25 Minuten dauern. Auch Kaffee und Kuchen\, Kaltgetränke und etwas zum Grillen soll es natürlich geben. Bitte meldet Euch bei Thomas Klüber per Email an\, damit wir das Essen und Trinken passend einkaufen können. thomasklueber@web.de- \nDann sehen wir uns spätestens am Sonntag\, den 1.8.2021 \nDer Vorstand
URL:https://tsg-borchen.de/event/doppelturnier-am-1-8-2021-ab-13-uhr/
END:VEVENT
END:VCALENDAR