BEGIN:VCALENDAR
VERSION:2.0
PRODID:-//TSG Borchen - ECPv5.1.6//NONSGML v1.0//EN
CALSCALE:GREGORIAN
METHOD:PUBLISH
X-WR-CALNAME:TSG Borchen
X-ORIGINAL-URL:https://tsg-borchen.de
X-WR-CALDESC:Veranstaltungen für TSG Borchen
BEGIN:VTIMEZONE
TZID:UTC
BEGIN:STANDARD
TZOFFSETFROM:+0000
TZOFFSETTO:+0000
TZNAME:UTC
DTSTART:20260101T000000
END:STANDARD
END:VTIMEZONE
BEGIN:VEVENT
DTSTART;VALUE=DATE:20260905
DTEND;VALUE=DATE:20260906
DTSTAMP:20260421T050014
CREATED:20251120T200902Z
LAST-MODIFIED:20260308T171922Z
UID:984-1788566400-1788652799@tsg-borchen.de
SUMMARY:50 Jahre TSG Borchen
DESCRIPTION:Die große Vereinsfeier zum Jubiläum. \nAm 5. September feiern wir 50 Jahre TSG Borchen! Tagsüber werden wir ein Tennis Show-Match veranstalten. Für Essen und Getränke wird gesorgt\, für die kleineren Tennisbegeisterten werden wir eine Hüpfburg aufstellen. Abends sorgt dann live Musik für die richtige Stimmung. \nAlso : Haltet euch den Tag frei! \nADVANTAGE BORCHEN
URL:https://tsg-borchen.de/event/50-jahre-tsg-borchen/
END:VEVENT
END:VCALENDAR